Workbook

Sheet شش ماهه اول
A1: فرم عملکرد برنامه مداخله تغذیه ای کودکان 5-0 سال
A2: ردیف | B2: عنوان | O2: شهرستان
A3: 1 | B3: تعداد کودکان واجد شرایط دریافت سبد غذایی در دوره شش ماهه | O3: =N3+M3+L3+K3+J3+I3 -> 0
A4: 2 | B4: تعداد کودکان دریافت کننده سبد غذایی در دوره شش ماهه | O4: =N4+M4+L4+K4+J4+I4 -> 0
A5: 3 | B5: تعداد کودکان پشت نوبتی در دوره شش ماهه | O5: =N5+M5+L5+K5+J5+I5 -> 0
A6: 4 | B6: درصد کودکان دریافت کننده سبد غذایی | O6: =N6+M6+L6+K6+J6+I6 -> 0
A7: 5 | B7: تعداد کودکان بهبود یافته در دوره شش ماهه | O7: =N7+M7+L7+K7+J7+I7 -> 0
A8: 6 | B8: درصد کودکان بهبود یافته از طریق سبد غذایی در دوره شش ماهه | O8: =N8+M8+L8+K8+J8+I8 -> 0
A9: 7 | B9: تعداد مادران دارای کودک 12-6 ماهه ( تحت پوشش برنامه) در دوره شش ماهه | O9: =N9+M9+L9+K9+J9+I9 -> 0
A10: 8 | B10: تعداد مادران کودکان12- 6 ماهه (تحت پوشش برنامه ) آموزش دیده در خصوص تغذیه تکمیلی (تئوری –عملی )در دوره شش ماهه | O10: =N10+M10+L10+K10+J10+I10 -> 0
A11: 9 | B11: تعداد مادران کودکان 5-1 سال (تحت پوشش برنامه ) در دوره شش ماهه | O11: =N11+M11+L11+K11+J11+I11 -> 0
A12: 10 | B12: تعداد مادران کودکان 5- 1 سال (تحت پوشش برنامه ) آموزش دیده در خصوص تغذیه کودک 5- 1 سال در دوره شش ماهه | O12: =N12+M12+L12+K12+J12+I12 -> 0
A13: 11 | B13: درصد مادران کودکان12- 6 ماهه (تحت پوشش برنامه ) آموزش دیده در خصوص تغذیه تکمیلی (تئوری –عملی )در دوره شش ماهه | O13: =N13+M13+L13+K13+J13+I13 -> 0
A14: 12 | B14: درصد مادران کودکان5-1 سال (تحت پوشش برنامه ) آموزش دیده در خصوص تغذیه کودک 5-1 سال در دوره شش ماهه | O14: =N14+M14+L14+K14+J14+I14 -> 0
... A18: 16 | B18: تعداد شرکت کنندگان در کارگاههای آموزشی و کلاس های آموزشی برگزار شده در دوره شش ماهه ( ویژه برنامه حمایتی) | O18: =N18+M18+L18+K18+J18+I18 -> 0
A19: توجه : کلیه اطلاعات فوق فقط مربوط به کودکانی است که تحت پوشش برنامه حمایت تغذیه ای هستند.

Sheet شش ماهه دوم
A1: فرم عملکرد برنامه مداخله تغذیه ای کودکان 5-0 سال
A2: ردیف | B2: عنوان | O2: شهرستان
A3: 1 | B3: تعداد کودکان واجد شرایط دریافت سبد غذایی در دوره شش ماهه | O3: =N3+M3+L3+K3+J3+I3 -> 0
A4: 2 | B4: تعداد کودکان دریافت کننده سبد غذایی در دوره شش ماهه | O4: =N4+M4+L4+K4+J4+I4 -> 0
A5: 3 | B5: تعداد کودکان پشت نوبتی در دوره شش ماهه | O5: =N5+M5+L5+K5+J5+I5 -> 0
A6: 4 | B6: درصد کودکان دریافت کننده سبد غذایی | O6: =N6+M6+L6+K6+J6+I6 -> 0
A7: 5 | B7: تعداد کودکان بهبود یافته در دوره شش ماهه | O7: =N7+M7+L7+K7+J7+I7 -> 0
A8: 6 | B8: درصد کودکان بهبود یافته از طریق سبد غذایی در دوره شش ماهه | O8: =N8+M8+L8+K8+J8+I8 -> 0
A9: 7 | B9: تعداد مادران دارای کودک 12-6 ماهه ( تحت پوشش برنامه) در دوره شش ماهه | O9: =N9+M9+L9+K9+J9+I9 -> 0
A10: 8 | B10: تعداد مادران کودکان12- 6 ماهه (تحت پوشش برنامه ) آموزش دیده در خصوص تغذیه تکمیلی (تئوری –عملی )در دوره شش ماهه | O10: =N10+M10+L10+K10+J10+I10 -> 0
A11: 9 | B11: تعداد مادران کودکان 5-1 سال (تحت پوشش برنامه ) در دوره شش ماهه | O11: =N11+M11+L11+K11+J11+I11 -> 0
A12: 10 | B12: تعداد مادران کودکان 5- 1 سال (تحت پوشش برنامه ) آموزش دیده در خصوص تغذیه کودک 5- 1 سال در دوره شش ماهه | O12: =N12+M12+L12+K12+J12+I12 -> 0
A13: 11 | B13: درصد مادران کودکان12- 6 ماهه (تحت پوشش برنامه ) آموزش دیده در خصوص تغذیه تکمیلی (تئوری –عملی )در دوره شش ماهه | O13: =N13+M13+L13+K13+J13+I13 -> 0
A14: 12 | B14: درصد مادران کودکان5-1 سال (تحت پوشش برنامه ) آموزش دیده در خصوص تغذیه کودک 5-1 سال در دوره شش ماهه | O14: =N14+M14+L14+K14+J14+I14 -> 0
... A18: 16 | B18: تعداد شرکت کنندگان در کارگاههای آموزشی و کلاس های آموزشی برگزار شده در دوره شش ماهه ( ویژه برنامه حمایتی) | O18: =N18+M18+L18+K18+J18+I18 -> 0
A19: توجه : کلیه اطلاعات فوق فقط مربوط به کودکانی است که تحت پوشش برنامه حمایت تغذیه ای هستند.

Sheet سال 1397
A1: فرم عملکرد برنامه مداخله تغذیه ای کودکان 5-0 سال (برنامه مشارکتی و حمایتی)
A2: ردیف | B2: عنوان | P2: شهرستان
A3: 1 | B3: تعداد کودکان واجد شرایط دریافت سبد غذایی در دوره شش ماهه | J3: ='شش ماهه اول'!I3+'شش ماهه دوم'!I3 -> 0 | K3: ='شش ماهه اول'!J3+'شش ماهه دوم'!J3 -> 0 | L3: ='شش ماهه اول'!K3+'شش ماهه دوم'!K3 -> 0 | M3: ='شش ماهه اول'!L3+'شش ماهه دوم'!L3 -> 0 | N3: ='شش ماهه اول'!M3+'شش ماهه دوم'!M3 -> 0 | O3: ='شش ماهه اول'!N3+'شش ماهه دوم'!N3 -> 0 | P3: ='شش ماهه اول'!O3+'شش ماهه دوم'!O3 -> 0
A4: 2 | B4: تعداد کودکان دریافت کننده سبد غذایی در دوره شش ماهه | J4: ='شش ماهه اول'!I4+'شش ماهه دوم'!I4 -> 0 | K4: ='شش ماهه اول'!J4+'شش ماهه دوم'!J4 -> 0 | L4: ='شش ماهه اول'!K4+'شش ماهه دوم'!K4 -> 0 | M4: ='شش ماهه اول'!L4+'شش ماهه دوم'!L4 -> 0 | N4: ='شش ماهه اول'!M4+'شش ماهه دوم'!M4 -> 0 | O4: ='شش ماهه اول'!N4+'شش ماهه دوم'!N4 -> 0 | P4: ='شش ماهه اول'!O4+'شش ماهه دوم'!O4 -> 0
A5: 3 | B5: تعداد کودکان پشت نوبتی در دوره شش ماهه | J5: ='شش ماهه اول'!I5+'شش ماهه دوم'!I5 -> 0 | K5: ='شش ماهه اول'!J5+'شش ماهه دوم'!J5 -> 0 | L5: ='شش ماهه اول'!K5+'شش ماهه دوم'!K5 -> 0 | M5: ='شش ماهه اول'!L5+'شش ماهه دوم'!L5 -> 0 | N5: ='شش ماهه اول'!M5+'شش ماهه دوم'!M5 -> 0 | O5: ='شش ماهه اول'!N5+'شش ماهه دوم'!N5 -> 0 | P5: ='شش ماهه اول'!O5+'شش ماهه دوم'!O5 -> 0
A6: 4 | B6: درصد کودکان دریافت کننده سبد غذایی | J6: ='شش ماهه اول'!I6+'شش ماهه دوم'!I6 -> 0 | K6: ='شش ماهه اول'!J6+'شش ماهه دوم'!J6 -> 0 | L6: ='شش ماهه اول'!K6+'شش ماهه دوم'!K6 -> 0 | M6: ='شش ماهه اول'!L6+'شش ماهه دوم'!L6 -> 0 | N6: ='شش ماهه اول'!M6+'شش ماهه دوم'!M6 -> 0 | O6: ='شش ماهه اول'!N6+'شش ماهه دوم'!N6 -> 0 | P6: ='شش ماهه اول'!O6+'شش ماهه دوم'!O6 -> 0
A7: 5 | B7: تعداد کودکان بهبود یافته در دوره شش ماهه | J7: ='شش ماهه اول'!I7+'شش ماهه دوم'!I7 -> 0 | K7: ='شش ماهه اول'!J7+'شش ماهه دوم'!J7 -> 0 | L7: ='شش ماهه اول'!K7+'شش ماهه دوم'!K7 -> 0 | M7: ='شش ماهه اول'!L7+'شش ماهه دوم'!L7 -> 0 | N7: ='شش ماهه اول'!M7+'شش ماهه دوم'!M7 -> 0 | O7: ='شش ماهه اول'!N7+'شش ماهه دوم'!N7 -> 0 | P7: ='شش ماهه اول'!O7+'شش ماهه دوم'!O7 -> 0
A8: 6 | B8: درصد کودکان بهبود یافته از طریق سبد غذایی در دوره شش ماهه | J8: ='شش ماهه اول'!I8+'شش ماهه دوم'!I8 -> 0 | K8: ='شش ماهه اول'!J8+'شش ماهه دوم'!J8 -> 0 | L8: ='شش ماهه اول'!K8+'شش ماهه دوم'!K8 -> 0 | M8: ='شش ماهه اول'!L8+'شش ماهه دوم'!L8 -> 0 | N8: ='شش ماهه اول'!M8+'شش ماهه دوم'!M8 -> 0 | O8: ='شش ماهه اول'!N8+'شش ماهه دوم'!N8 -> 0 | P8: ='شش ماهه اول'!O8+'شش ماهه دوم'!O8 -> 0
A9: 7 | B9: تعداد مادران دارای کودک 12-6 ماهه ( تحت پوشش برنامه) در دوره شش ماهه | J9: ='شش ماهه اول'!I9+'شش ماهه دوم'!I9 -> 0 | K9: ='شش ماهه اول'!J9+'شش ماهه دوم'!J9 -> 0 | L9: ='شش ماهه اول'!K9+'شش ماهه دوم'!K9 -> 0 | M9: ='شش ماهه اول'!L9+'شش ماهه دوم'!L9 -> 0 | N9: ='شش ماهه اول'!M9+'شش ماهه دوم'!M9 -> 0 | O9: ='شش ماهه اول'!N9+'شش ماهه دوم'!N9 -> 0 | P9: ='شش ماهه اول'!O9+'شش ماهه دوم'!O9 -> 0
A10: 8 | B10: تعداد مادران کودکان12- 6 ماهه (تحت پوشش برنامه ) آموزش دیده در خصوص تغذیه تکمیلی (تئوری –عملی )در دوره شش ماهه | J10: ='شش ماهه اول'!I10+'شش ماهه دوم'!I10 -> 0 | K10: ='شش ماهه اول'!J10+'شش ماهه دوم'!J10 -> 0 | L10: ='شش ماهه اول'!K10+'شش ماهه دوم'!K10 -> 0 | M10: ='شش ماهه اول'!L10+'شش ماهه دوم'!L10 -> 0 | N10: ='شش ماهه اول'!M10+'شش ماهه دوم'!M10 -> 0 | O10: ='شش ماهه اول'!N10+'شش ماهه دوم'!N10 -> 0 | P10: ='شش ماهه اول'!O10+'شش ماهه دوم'!O10 -> 0
A11: 9 | B11: تعداد مادران کودکان 5-1 سال (تحت پوشش برنامه ) در دوره شش ماهه | J11: ='شش ماهه اول'!I11+'شش ماهه دوم'!I11 -> 0 | K11: ='شش ماهه اول'!J11+'شش ماهه دوم'!J11 -> 0 | L11: ='شش ماهه اول'!K11+'شش ماهه دوم'!K11 -> 0 | M11: ='شش ماهه اول'!L11+'شش ماهه دوم'!L11 -> 0 | N11: ='شش ماهه اول'!M11+'شش ماهه دوم'!M11 -> 0 | O11: ='شش ماهه اول'!N11+'شش ماهه دوم'!N11 -> 0 | P11: ='شش ماهه اول'!O11+'شش ماهه دوم'!O11 -> 0
A12: 10 | B12: تعداد مادران کودکان 5- 1 سال (تحت پوشش برنامه ) آموزش دیده در خصوص تغذیه کودک 5- 1 سال در دوره شش ماهه | J12: ='شش ماهه اول'!I12+'شش ماهه دوم'!I12 -> 0 | K12: ='شش ماهه اول'!J12+'شش ماهه دوم'!J12 -> 0 | L12: ='شش ماهه اول'!K12+'شش ماهه دوم'!K12 -> 0 | M12: ='شش ماهه اول'!L12+'شش ماهه دوم'!L12 -> 0 | N12: ='شش ماهه اول'!M12+'شش ماهه دوم'!M12 -> 0 | O12: ='شش ماهه اول'!N12+'شش ماهه دوم'!N12 -> 0 | P12: ='شش ماهه اول'!O12+'شش ماهه دوم'!O12 -> 0
A13: 11 | B13: درصد مادران کودکان12- 6 ماهه (تحت پوشش برنامه ) آموزش دیده در خصوص تغذیه تکمیلی (تئوری –عملی )در دوره شش ماهه | J13: ='شش ماهه اول'!I13+'شش ماهه دوم'!I13 -> 0 | K13: ='شش ماهه اول'!J13+'شش ماهه دوم'!J13 -> 0 | L13: ='شش ماهه اول'!K13+'شش ماهه دوم'!K13 -> 0 | M13: ='شش ماهه اول'!L13+'شش ماهه دوم'!L13 -> 0 | N13: ='شش ماهه اول'!M13+'شش ماهه دوم'!M13 -> 0 | O13: ='شش ماهه اول'!N13+'شش ماهه دوم'!N13 -> 0 | P13: ='شش ماهه اول'!O13+'شش ماهه دوم'!O13 -> 0
A14: 12 | B14: درصد مادران کودکان5-1 سال (تحت پوشش برنامه ) آموزش دیده در خصوص تغذیه کودک 5-1 سال در دوره شش ماهه | J14: ='شش ماهه اول'!I14+'شش ماهه دوم'!I14 -> 0 | K14: ='شش ماهه اول'!J14+'شش ماهه دوم'!J14 -> 0 | L14: ='شش ماهه اول'!K14+'شش ماهه دوم'!K14 -> 0 | M14: ='شش ماهه اول'!L14+'شش ماهه دوم'!L14 -> 0 | N14: ='شش ماهه اول'!M14+'شش ماهه دوم'!M14 -> 0 | O14: ='شش ماهه اول'!N14+'شش ماهه دوم'!N14 -> 0 | P14: ='شش ماهه اول'!O14+'شش ماهه دوم'!O14 -> 0
... A18: 16 | B18: تعداد شرکت کنندگان در کارگاههای آموزشی و کلاس های آموزشی برگزار شده در دوره شش ماهه ( ویژه برنامه حمایتی) | J18: ='شش ماهه اول'!I18+'شش ماهه دوم'!I18 -> 0 | K18: ='شش ماهه اول'!J18+'شش ماهه دوم'!J18 -> 0 | L18: ='شش ماهه اول'!K18+'شش ماهه دوم'!K18 -> 0 | M18: ='شش ماهه اول'!L18+'شش ماهه دوم'!L18 -> 0 | N18: ='شش ماهه اول'!M18+'شش ماهه دوم'!M18 -> 0 | O18: ='شش ماهه اول'!N18+'شش ماهه دوم'!N18 -> 0 | P18: ='شش ماهه اول'!O18+'شش ماهه دوم'!O18 -> 0
A19: توجه : کلیه اطلاعات فوق فقط مربوط به کودکانی است که تحت پوشش برنامه حمایت تغذیه ای هستند.

Sheet نمودارها
B1: قزوین | C1: البرز | D1: تاکستان | E1: بویین زهرا | F1: آبیک | G1: آوج | H1: استان
A2: درصد کودکان دریافت کننده سبد غذایی | B2: ='سال 1397'!J6 -> 0 | C2: ='سال 1397'!K6 -> 0 | D2: ='سال 1397'!L6 -> 0 | E2: ='سال 1397'!M6 -> 0 | F2: ='سال 1397'!N6 -> 0 | G2: ='سال 1397'!O6 -> 0 | H2: ='سال 1397'!P6 -> 0
B4: قزوین | C4: البرز | D4: تاکستان | E4: بویین زهرا | F4: آبیک | G4: آوج | H4: استان
A5: تعداد کودکان بهبود یافته در دوره شش ماهه | B5: ='سال 1397'!J7 -> 0 | C5: ='سال 1397'!K7 -> 0 | D5: ='سال 1397'!L7 -> 0 | E5: ='سال 1397'!M7 -> 0 | F5: ='سال 1397'!N7 -> 0 | G5: ='سال 1397'!O7 -> 0 | H5: ='سال 1397'!P7 -> 0
